Workbook
Name _Ref382996715: Disrt.Uniforme!$A$1
Name gaussiana: Distr.Gaussiana!$A:$B

Sheet Disrt.Uniforme
A1: =RAND() -> 0.9494955 | B1: =RAND() -> 0.37448687 | C1: =RAND() -> 0.52639682 | D1: =RAND() -> 0.3870777 | E1: TOTALE | F1: =COUNT(A:D) -> 1000
A2: =RAND() -> 0.79396385 | B2: =RAND() -> 0.92705486 | C2: =RAND() -> 0.69213621 | D2: =RAND() -> 0.49447349
A3: =RAND() -> 0.10518629 | B3: =RAND() -> 0.75650833 | C3: =RAND() -> 0.13844932 | D3: =RAND() -> 0.88303098 | E3: intervallo | F3: frequenza | G3: conta.più.se
A4: =RAND() -> 0.29153705 | B4: =RAND() -> 0.18622093 | C4: =RAND() -> 0.28556645 | D4: =RAND() -> 0.1653896 | E4: 0 | F4: {=FREQUENCY(A:D,E4:E14)} -> 0 | G4: =COUNTIFS(A:D,">E2",A:D,"<E3") -> 0
A5: =RAND() -> 0.84133544 | B5: =RAND() -> 0.0091175845 | C5: =RAND() -> 0.65292508 | D5: =RAND() -> 0.57184775 | E5: 0.1 | F5: 94 | G5: =COUNTIFS(A:D,">0",A:D,"<0,1") -> 94
A6: =RAND() -> 0.74402917 | B6: =RAND() -> 0.10895558 | C6: =RAND() -> 0.74473375 | D6: =RAND() -> 0.71342715 | E6: 0.2 | F6: 87 | G6: =COUNTIFS(A:D,">0,1",A:D,"<0,2") -> 87
A7: =RAND() -> 0.1713969 | B7: =RAND() -> 0.42362698 | C7: =RAND() -> 0.59388504 | D7: =RAND() -> 0.82179311 | E7: 0.3 | F7: 104
A8: =RAND() -> 0.031793531 | B8: =RAND() -> 0.73999913 | C8: =RAND() -> 0.34236439 | D8: =RAND() -> 0.95276397 | E8: 0.4 | F8: 113
A9: =RAND() -> 0.97446888 | B9: =RAND() -> 0.76195332 | C9: =RAND() -> 0.51530338 | D9: =RAND() -> 0.65954841 | E9: 0.5 | F9: 95
A10: =RAND() -> 0.52505495 | B10: =RAND() -> 0.46507088 | C10: =RAND() -> 0.42087008 | D10: =RAND() -> 0.56932172 | E10: 0.6 | F10: 97
A11: =RAND() -> 0.28282449 | B11: =RAND() -> 0.15311841 | C11: =RAND() -> 0.083413703 | D11: =RAND() -> 0.13630143 | E11: 0.7 | F11: 93
A12: =RAND() -> 0.11666377 | B12: =RAND() -> 0.029925189 | C12: =RAND() -> 0.93013823 | D12: =RAND() -> 0.70463915 | E12: 0.8 | F12: 97
A13: =RAND() -> 0.42798767 | B13: =RAND() -> 0.78309119 | C13: =RAND() -> 0.60982053 | D13: =RAND() -> 0.27922649 | E13: 0.9 | F13: 116
A14: =RAND() -> 0.34316212 | B14: =RAND() -> 0.36885495 | C14: =RAND() -> 0.50524182 | D14: =RAND() -> 0.59979371 | E14: 1 | F14: 104
A15: =RAND() -> 0.76314079 | B15: =RAND() -> 0.41099845 | C15: =RAND() -> 0.53943212 | D15: =RAND() -> 0.94825051 | E15: sum | F15: =SUM(F4:F14) -> 1000
A16: =RAND() -> 0.93439213 | B16: =RAND() -> 0.1583483 | C16: =RAND() -> 0.18434253 | D16: =RAND() -> 0.4743529
A17: =RAND() -> 0.62412272 | B17: =RAND() -> 0.28415464 | C17: =RAND() -> 0.10905882 | D17: =RAND() -> 0.54528587
A18: =RAND() -> 0.18415198 | B18: =RAND() -> 0.35289533 | C18: =RAND() -> 0.94183579 | D18: =RAND() -> 0.7897866
A19: =RAND() -> 0.29494546 | B19: =RAND() -> 0.29507487 | C19: =RAND() -> 0.044142227 | D19: =RAND() -> 0.37949917
A20: =RAND() -> 0.9943525 | B20: =RAND() -> 0.67868768 | C20: =RAND() -> 0.87198072 | D20: =RAND() -> 0.016857001
A21: =RAND() -> 0.8866132 | B21: =RAND() -> 0.87130685 | C21: =RAND() -> 0.56096851 | D21: =RAND() -> 0.80429595
A22: =RAND() -> 0.97637934 | B22: =RAND() -> 0.82606405 | C22: =RAND() -> 0.22389033 | D22: =RAND() -> 0.23692603
A23: =RAND() -> 0.75587145 | B23: =RAND() -> 0.24145453 | C23: =RAND() -> 0.12622265 | D23: =RAND() -> 0.70423949
A24: =RAND() -> 0.3562349 | B24: =RAND() -> 0.79040427 | C24: =RAND() -> 0.060571131 | D24: =RAND() -> 0.23007767
A25: =RAND() -> 0.11583729 | B25: =RAND() -> 0.26355919 | C25: =RAND() -> 0.68738786 | D25: =RAND() -> 0.78293924
A26: =RAND() -> 0.69477089 | B26: =RAND() -> 0.61605388 | C26: =RAND() -> 0.47861013 | D26: =RAND() -> 0.96932572
A27: =RAND() -> 0.94486033 | B27: =RAND() -> 0.92367656 | C27: =RAND() -> 0.68370863 | D27: =RAND() -> 0.39547405
... A250: =RAND() -> 0.25052197 | B250: =RAND() -> 0.59769566 | C250: =RAND() -> 0.52241617 | D250: =RAND() -> 0.80926026

Sheet Distr.Gaussiana
A1: =SQRT(-2*LN(Disrt.Uniforme!A1))*COS(2*PI()*Disrt.Uniforme!B1) -> -0.22691478 | B1: =SQRT(-2*LN(Disrt.Uniforme!A1))*SIN(2*PI()*Disrt.Uniforme!B1) -> 0.22838272 | D1: TOTALE | E1: =COUNT(A:B) -> 500
A2: =SQRT(-2*LN(Disrt.Uniforme!A2))*COS(2*PI()*Disrt.Uniforme!B2) -> 0.60918279 | B2: =SQRT(-2*LN(Disrt.Uniforme!A2))*SIN(2*PI()*Disrt.Uniforme!B2) -> -0.3005512 | D2: dev.st | E2: =STDEV(A:B) -> 0.98020496
A3: =SQRT(-2*LN(Disrt.Uniforme!A3))*COS(2*PI()*Disrt.Uniforme!B3) -> 0.086761987 | B3: =SQRT(-2*LN(Disrt.Uniforme!A3))*SIN(2*PI()*Disrt.Uniforme!B3) -> -2.1204992 | D3: media | E3: =AVERAGE(A:B) -> -0.033954336
A4: =SQRT(-2*LN(Disrt.Uniforme!A4))*COS(2*PI()*Disrt.Uniforme!B4) -> 0.6124849 | B4: =SQRT(-2*LN(Disrt.Uniforme!A4))*SIN(2*PI()*Disrt.Uniforme!B4) -> 1.4456966
A5: =SQRT(-2*LN(Disrt.Uniforme!A5))*COS(2*PI()*Disrt.Uniforme!B5) -> 0.58685342 | B5: =SQRT(-2*LN(Disrt.Uniforme!A5))*SIN(2*PI()*Disrt.Uniforme!B5) -> 0.033656176 | D5: intervallo | E5: frequenza | F5: calcolato
A6: =SQRT(-2*LN(Disrt.Uniforme!A6))*COS(2*PI()*Disrt.Uniforme!B6) -> 0.59572308 | B6: =SQRT(-2*LN(Disrt.Uniforme!A6))*SIN(2*PI()*Disrt.Uniforme!B6) -> 0.48627574 | D6: -5 | E6: {=FREQUENCY(A:B,D6:D26)} -> 0 | F6: =1/($E$2*SQRT(2*PI()))*EXP(-0.5*((D6)-$E$3)/$E$2*(D6-$E$3)/$E$2)*$E$1/2 -> 0.00027155281
A7: =SQRT(-2*LN(Disrt.Uniforme!A7))*COS(2*PI()*Disrt.Uniforme!B7) -> -1.6660493 | B7: =SQRT(-2*LN(Disrt.Uniforme!A7))*SIN(2*PI()*Disrt.Uniforme!B7) -> 0.86707928 | D7: -4.5 | E7: 0 | F7: =1/($E$2*SQRT(2*PI()))*EXP(-0.5*((D7)-$E$3)/$E$2*(D7-$E$3)/$E$2)*$E$1/2 -> 0.0031601689
A8: =SQRT(-2*LN(Disrt.Uniforme!A8))*COS(2*PI()*Disrt.Uniforme!B8) -> -0.16491556 | B8: =SQRT(-2*LN(Disrt.Uniforme!A8))*SIN(2*PI()*Disrt.Uniforme!B8) -> -2.621028 | D8: -4 | E8: 0 | F8: =1/($E$2*SQRT(2*PI()))*EXP(-0.5*((D8)-$E$3)/$E$2*(D8-$E$3)/$E$2)*$E$1/2 -> 0.028350657
A9: =SQRT(-2*LN(Disrt.Uniforme!A9))*COS(2*PI()*Disrt.Uniforme!B9) -> 0.017065219 | B9: =SQRT(-2*LN(Disrt.Uniforme!A9))*SIN(2*PI()*Disrt.Uniforme!B9) -> -0.22679104 | D9: -3.5 | E9: 0 | F9: =1/($E$2*SQRT(2*PI()))*EXP(-0.5*((D9)-$E$3)/$E$2*(D9-$E$3)/$E$2)*$E$1/2 -> 0.19607076
A10: =SQRT(-2*LN(Disrt.Uniforme!A10))*COS(2*PI()*Disrt.Uniforme!B10) -> -1.1078959 | B10: =SQRT(-2*LN(Disrt.Uniforme!A10))*SIN(2*PI()*Disrt.Uniforme!B10) -> 0.24712605 | D10: -3 | E10: 0 | F10: =1/($E$2*SQRT(2*PI()))*EXP(-0.5*((D10)-$E$3)/$E$2*(D10-$E$3)/$E$2)*$E$1/2 -> 1.0453443
A11: =SQRT(-2*LN(Disrt.Uniforme!A11))*COS(2*PI()*Disrt.Uniforme!B11) -> 0.90879354 | B11: =SQRT(-2*LN(Disrt.Uniforme!A11))*SIN(2*PI()*Disrt.Uniforme!B11) -> 1.303822 | D11: -2.5 | E11: 3 | F11: =1/($E$2*SQRT(2*PI()))*EXP(-0.5*((D11)-$E$3)/$E$2*(D11-$E$3)/$E$2)*$E$1/2 -> 4.2963809
A12: =SQRT(-2*LN(Disrt.Uniforme!A12))*COS(2*PI()*Disrt.Uniforme!B12) -> 2.0363666 | B12: =SQRT(-2*LN(Disrt.Uniforme!A12))*SIN(2*PI()*Disrt.Uniforme!B12) -> 0.38746576 | D12: -2 | E12: 7 | F12: =1/($E$2*SQRT(2*PI()))*EXP(-0.5*((D12)-$E$3)/$E$2*(D12-$E$3)/$E$2)*$E$1/2 -> 13.612661
A13: =SQRT(-2*LN(Disrt.Uniforme!A13))*COS(2*PI()*Disrt.Uniforme!B13) -> 0.26893092 | B13: =SQRT(-2*LN(Disrt.Uniforme!A13))*SIN(2*PI()*Disrt.Uniforme!B13) -> -1.2747541 | D13: -1.5 | E13: 19 | F13: =1/($E$2*SQRT(2*PI()))*EXP(-0.5*((D13)-$E$3)/$E$2*(D13-$E$3)/$E$2)*$E$1/2 -> 33.249119
A14: =SQRT(-2*LN(Disrt.Uniforme!A14))*COS(2*PI()*Disrt.Uniforme!B14) -> -0.99350015 | B14: =SQRT(-2*LN(Disrt.Uniforme!A14))*SIN(2*PI()*Disrt.Uniforme!B14) -> 1.0733415 | D14: -1 | E14: 64 | F14: =1/($E$2*SQRT(2*PI()))*EXP(-0.5*((D14)-$E$3)/$E$2*(D14-$E$3)/$E$2)*$E$1/2 -> 62.605734
A15: =SQRT(-2*LN(Disrt.Uniforme!A15))*COS(2*PI()*Disrt.Uniforme!B15) -> -0.62327039 | B15: =SQRT(-2*LN(Disrt.Uniforme!A15))*SIN(2*PI()*Disrt.Uniforme!B15) -> 0.39007628 | D15: -0.5 | E15: 61 | F15: =1/($E$2*SQRT(2*PI()))*EXP(-0.5*((D15)-$E$3)/$E$2*(D15-$E$3)/$E$2)*$E$1/2 -> 90.875108
A16: =SQRT(-2*LN(Disrt.Uniforme!A16))*COS(2*PI()*Disrt.Uniforme!B16) -> 0.20061569 | B16: =SQRT(-2*LN(Disrt.Uniforme!A16))*SIN(2*PI()*Disrt.Uniforme!B16) -> 0.30898466 | D16: 0 | E16: 96 | F16: =1/($E$2*SQRT(2*PI()))*EXP(-0.5*((D16)-$E$3)/$E$2*(D16-$E$3)/$E$2)*$E$1/2 -> 101.68868
A17: =SQRT(-2*LN(Disrt.Uniforme!A17))*COS(2*PI()*Disrt.Uniforme!B17) -> -0.20677811 | B17: =SQRT(-2*LN(Disrt.Uniforme!A17))*SIN(2*PI()*Disrt.Uniforme!B17) -> 0.94871457 | D17: 0.5 | E17: 114 | F17: =1/($E$2*SQRT(2*PI()))*EXP(-0.5*((D17)-$E$3)/$E$2*(D17-$E$3)/$E$2)*$E$1/2 -> 87.719703
A18: =SQRT(-2*LN(Disrt.Uniforme!A18))*COS(2*PI()*Disrt.Uniforme!B18) -> -1.1081608 | B18: =SQRT(-2*LN(Disrt.Uniforme!A18))*SIN(2*PI()*Disrt.Uniforme!B18) -> 1.4683213 | D18: 1 | E18: 65 | F18: =1/($E$2*SQRT(2*PI()))*EXP(-0.5*((D18)-$E$3)/$E$2*(D18-$E$3)/$E$2)*$E$1/2 -> 58.333568
... A26: =SQRT(-2*LN(Disrt.Uniforme!A26))*COS(2*PI()*Disrt.Uniforme!B26) -> -0.63641764 | B26: =SQRT(-2*LN(Disrt.Uniforme!A26))*SIN(2*PI()*Disrt.Uniforme!B26) -> -0.56861136 | D26: 5 | E26: 0 | F26: =1/($E$2*SQRT(2*PI()))*EXP(-0.5*((D26)-$E$3)/$E$2*(D26-$E$3)/$E$2)*$E$1/2 -> 0.0001907113
A27: =SQRT(-2*LN(Disrt.Uniforme!A27))*COS(2*PI()*Disrt.Uniforme!B27) -> 0.29881192 | B27: =SQRT(-2*LN(Disrt.Uniforme!A27))*SIN(2*PI()*Disrt.Uniforme!B27) -> -0.15539548 | D27: somma | E27: =SUM(E6:E26) -> 500 | F27: =SUM(F6:F26) -> 499.99997
A28: =SQRT(-2*LN(Disrt.Uniforme!A28))*COS(2*PI()*Disrt.Uniforme!B28) -> 0.5665778 | B28: =SQRT(-2*LN(Disrt.Uniforme!A28))*SIN(2*PI()*Disrt.Uniforme!B28) -> -0.30956628
A29: =SQRT(-2*LN(Disrt.Uniforme!A29))*COS(2*PI()*Disrt.Uniforme!B29) -> 0.017696792 | B29: =SQRT(-2*LN(Disrt.Uniforme!A29))*SIN(2*PI()*Disrt.Uniforme!B29) -> 1.5130145
A30: =SQRT(-2*LN(Disrt.Uniforme!A30))*COS(2*PI()*Disrt.Uniforme!B30) -> -1.292256 | B30: =SQRT(-2*LN(Disrt.Uniforme!A30))*SIN(2*PI()*Disrt.Uniforme!B30) -> -0.88819568
A31: =SQRT(-2*LN(Disrt.Uniforme!A31))*COS(2*PI()*Disrt.Uniforme!B31) -> 0.25380102 | B31: =SQRT(-2*LN(Disrt.Uniforme!A31))*SIN(2*PI()*Disrt.Uniforme!B31) -> 1.0753474
A32: =SQRT(-2*LN(Disrt.Uniforme!A32))*COS(2*PI()*Disrt.Uniforme!B32) -> -0.9002603 | B32: =SQRT(-2*LN(Disrt.Uniforme!A32))*SIN(2*PI()*Disrt.Uniforme!B32) -> -0.046418618
A33: =SQRT(-2*LN(Disrt.Uniforme!A33))*COS(2*PI()*Disrt.Uniforme!B33) -> 0.33230054 | B33: =SQRT(-2*LN(Disrt.Uniforme!A33))*SIN(2*PI()*Disrt.Uniforme!B33) -> -1.7316283
A34: =SQRT(-2*LN(Disrt.Uniforme!A34))*COS(2*PI()*Disrt.Uniforme!B34) -> 1.4266006 | B34: =SQRT(-2*LN(Disrt.Uniforme!A34))*SIN(2*PI()*Disrt.Uniforme!B34) -> -1.9314329
A35: =SQRT(-2*LN(Disrt.Uniforme!A35))*COS(2*PI()*Disrt.Uniforme!B35) -> 1.916829 | B35: =SQRT(-2*LN(Disrt.Uniforme!A35))*SIN(2*PI()*Disrt.Uniforme!B35) -> -0.57061767
A36: =SQRT(-2*LN(Disrt.Uniforme!A36))*COS(2*PI()*Disrt.Uniforme!B36) -> 0.22461024 | B36: =SQRT(-2*LN(Disrt.Uniforme!A36))*SIN(2*PI()*Disrt.Uniforme!B36) -> -0.39285186
A37: =SQRT(-2*LN(Disrt.Uniforme!A37))*COS(2*PI()*Disrt.Uniforme!B37) -> 1.4429764 | B37: =SQRT(-2*LN(Disrt.Uniforme!A37))*SIN(2*PI()*Disrt.Uniforme!B37) -> 0.95688859
A38: =SQRT(-2*LN(Disrt.Uniforme!A38))*COS(2*PI()*Disrt.Uniforme!B38) -> -0.4603478 | B38: =SQRT(-2*LN(Disrt.Uniforme!A38))*SIN(2*PI()*Disrt.Uniforme!B38) -> 0.49263672
A39: =SQRT(-2*LN(Disrt.Uniforme!A39))*COS(2*PI()*Disrt.Uniforme!B39) -> 0.38484013 | B39: =SQRT(-2*LN(Disrt.Uniforme!A39))*SIN(2*PI()*Disrt.Uniforme!B39) -> 0.17486111
... A250: =SQRT(-2*LN(Disrt.Uniforme!A250))*COS(2*PI()*Disrt.Uniforme!B250) -> -1.3601063 | B250: =SQRT(-2*LN(Disrt.Uniforme!A250))*SIN(2*PI()*Disrt.Uniforme!B250) -> -0.95839884
